Workbook

Sheet Annual return explanation 2025
A1: ASKAM AND IRELETH PARISH COUNCIL
A3: Annual Return Explanation of Variation
A5: Financial year end 31st March 2025
A7: Prepared By ________Janice Cumming | E7: Clerk to the Council Dated | H7: 45747
A10: Item | B10: Description | C10: 31st March 2024 | D10: 31st March 2025 | E10: Variation | F10: 15% of last year | G10: Variation trigger | H10: Explanation
A12: 1 | B12: Balances brought forward | C12: 16355.96 | D12: ='receipts and payments'!G43 -> 15307.87 | E12: =D12-C12 -> -1048.09 | F12: =C12*0.15 -> 2453.394 | G12: No
A14: 2 | B14: Annual precept | C14: 23000 | D14: ='receipts and payments'!G6 -> 35000 | E14: =D14-C14 -> 12000 | F14: =C14*0.15 -> 3450 | G14: Yes | H14: Increase of £12000 to cover additional Projects Planned on Trees £4000 in Steel Street Park, and improvements in Car Park £3000 and community field area including garages and Bowling Club preliminary works at £5000
F15: =C15*0.15 -> 0
A16: 3 | B16: Total other receipts | C16: 12157.95 | D16: ='receipts and payments'!G35-D14 -> 2653.42 | E16: =D16-C16 -> -9504.53 | F16: =C16*0.15 -> 1823.6925 | G16: =IF(F16<>(E16),"Yes"," No") -> Yes | H16: Bank Interest increase of £191, VAT reclaim increase of £473. Grant Decrease of £10019. Decrease of £150 additional income(Cancelled cheque)
F17: =C17*0.15 -> 0
A18: 4 | B18: Staff costs | C18: 8805.12 | D18: 8805 | E18: =D18-C18 -> -0.12 | F18: =C18*0.15 -> 1320.768 | G18: =IF(F18<(E18),"Yes"," No") -> No
F19: =C19*0.1 -> 0 | G19: =IF(F19<(E19),"Yes"," No") -> No
A20: 5 | B20: Loan interest/ capital repayments | C20: 0 | D20: 0 | E20: =D20-C20 -> 0 | F20: =C20*0.1 -> 0 | G20: =IF(F20<(E20),"Yes"," No") -> No
G21: =IF(F21<(E21),"Yes"," No") -> No
A22: 6 | B22: Total other payments | C22: 27400.92 | D22: ='receipts and payments'!F35-D18 -> 23732.87 | E22: =D22-C22 -> -3668.05 | F22: =C22*0.15 -> 4110.138 | G22: Yes | H22: Increases in Room rental £30, Community events £2500, Landscape Planting £848, Grant Aid £335, Subscription £161, Mileage £9.(£3883) Decrease in Stationery £63, Additional Planting £2651, Insurance £24, POD/Toilet £2074, post £11, Litter Bins £889, Community plan £900,Footpaths £312, VAT£615, Highways £12.(£7551)
F23: =C23*0.15 -> 0 | G23: =IF(F23<(E23),"Yes"," No") -> No
A24: 7 | B24: Balances carried forward | C24: 15307.87 | D24: =D12+D14+D16-(D18+D20+D22) -> 20423.42 | E24: =D24-C24 -> 5115.55 | F24: =C24*0.15 -> 2296.1805 | G24: =IF(F24<(E24),"Yes"," No") -> Yes | H24: Increase in Cash in Bank £5311 less Increase of uncashed cheques £195.
F25: =C25*0.15 -> 0 | G25: =IF(F25<(E25),"Yes"," No") -> No
A26: 8 | B26: Total cash and investments | C26: 15307.87 | D26: ='Bank Balance 2025'!D33 -> 20423.42 | E26: =D26-C26 -> 5115.55 | F26: =C26*0.15 -> 2296.1805 | G26: =IF(F26<(E26),"Yes"," No") -> Yes | H26: As in 7
F27: =C27*0.15 -> 0 | G27: =IF(F27<(E27),"Yes"," No") -> No
A28: 9 | B28: Total fixed assets | C28: 227691 | D28: ='Asset Register'!B55 -> 0 | E28: =C28-D28 -> 227691 | F28: =C28*0.15 -> 34153.65 | G28: No
F29: =C29*0.1 -> 0
A30: 10 | B30: Total borrowings | C30: 0 | D30: 0 | E30: =D30-C30 -> 0 | F30: =C30*0.1 -> 0

Sheet receipts and payments book
A1: Date | B1: Description | D1: Precept | E1: Other income | F1: Grants | G1: Interest | H1: VAT return | I1: Clerk's salary /Phone | J1: Room rental | K1: Admin stationery | L1: Audit/ Election Expenses | M1: Insurance | N1: Public Toilets | O1: Post | P1: Litter bins, benches, planters, dog waste bags & notice boards | Q1: Community Plan & Website | R1: Extra Landscaping Ground Maintenance | S1: Community Events | T1: Landscape / Planting incl Jubilee garden/ 1865 Garden | U1: Grant aid S137 | V1: Subs & Training | W1: Footpaths Beach Clean & Youth Projects | X1: Photo copying / Parish Plan | Y1: Highways / Libraries / Crime prevention | Z1: Travel/ Mileage & Parking | AA1: Amount without VAT | AB1: VAT | AC1: Total outgoing | AD1: Cheque no:
A2: 45383 | B2: Brought Forward | D2: 15307.87
A3: 45398 | B3: Aqua Projet | C3: DD | T3: 866.15 | AA3: =SUM(I3:Z3) -> 866.15 | AC3: =SUM(AA3:AB3) -> 866.15 | AD3: DD
A4: 45398 | B4: Clerks Salary & Phone | C4: DD | I4: 717.66 | AA4: =SUM(I4:Z4) -> 717.66 | AC4: =SUM(AA4:AB4) -> 717.66 | AD4: DD
A5: 45406 | B5: Precept | D5: 35000 | AA5: =SUM(I5:Z5) -> 0 | AC5: =SUM(AA5:AB5) -> 0 | AD5: -
A6: 45406 | B6: VAT Remittance | H6: 2140.98 | AA6: =SUM(I6:Z6) -> 0 | AC6: =SUM(AA6:AB6) -> 0 | AD6: -
A7: 45406 | B7: Internal Audit | C7: 1 | L7: 50 | AA7: =SUM(I7:Z7) -> 50 | AC7: =SUM(AA7:AB7) -> 50 | AD7: 1757
A8: 45412 | B8: Interest | G8: 25.73 | AA8: =SUM(I8:Z8) -> 0 | AC8: =SUM(AA8:AB8) -> 0 | AD8: -
A9: 45427 | B9: Zurich Insurance | C9: 2 | M9: 1547.05 | AA9: =SUM(I9:Z9) -> 1547.05 | AC9: =SUM(AA9:AB9) -> 1547.05 | AD9: 1758
A10: 45427 | B10: CALC | C10: 3 | V10: 551.35 | AA10: =SUM(I10:Z10) -> 551.35 | AC10: =SUM(AA10:AB10) -> 551.35 | AD10: 1759
A11: 45427 | B11: Clerks Salary & Phone | C11: DD | I11: 717.66 | AA11: =SUM(I11:Z11) -> 717.66 | AC11: =SUM(AA11:AB11) -> 717.66 | AD11: DD
A12: 45427 | B12: Aqua Projet | C12: DD | T12: 866.15 | AA12: =SUM(I12:Z12) -> 866.15 | AC12: =SUM(AA12:AB12) -> 866.15 | AD12: DD
A13: 45427 | B13: Clerk's Expenses | C13: 4 | I13: 193.2 | K13: 68.33 | AA13: =SUM(I13:Z13) -> 261.53 | AB13: 13.66 | AC13: =SUM(AA13:AB13) -> 275.19 | AD13: 1760
A14: 45443 | B14: Interest | G14: 61.24 | AA14: =SUM(I14:Z14) -> 0 | AC14: =SUM(AA14:AB14) -> 0 | AD14: -
A15: 45461 | B15: Continental Landscapes | C15: 5 | R15: 750 | AA15: =SUM(I15:Z15) -> 750 | AB15: 150 | AC15: =SUM(AA15:AB15) -> 900 | AD15: 1761
A16: 45461 | B16: Clerk's Expenses | C16: 6 | P16: 15.83 | R16: 10.83 | S16: 32.34 | AA16: =SUM(I16:Z16) -> 59 | AB16: 11.14 | AC16: =SUM(AA16:AB16) -> 70.14 | AD16: 1762
A17: 45461 | B17: Clerks Salary & Phone | C17: DD | I17: 717.66 | AA17: =SUM(I17:Z17) -> 717.66 | AC17: =SUM(AA17:AB17) -> 717.66 | AD17: DD
A18: 45461 | B18: Aqua Projet | C18: DD | T18: 866.15 | AA18: =SUM(I18:Z18) -> 866.15 | AC18: =SUM(AA18:AB18) -> 866.15 | AD18: DD
A19: 45473 | B19: Interest | G19: 51.67 | AA19: =SUM(I19:Z19) -> 0 | AC19: =SUM(AA19:AB19) -> 0 | AD19: -
A20: 45476 | B20: CALC | C20: 7 | V20: 60 | AA20: =SUM(I20:Z20) -> 60 | AC20: =SUM(AA20:AB20) -> 60 | AD20: 1763
A21: 45476 | B21: Platform 1 | C21: 8 | N21: 150 | AA21: =SUM(I21:Z21) -> 150 | AC21: =SUM(AA21:AB21) -> 150 | AD21: 1765
A22: 45489 | B22: Clerks Salary & Phone | C22: DD | I22: 717.66 | AA22: =SUM(I22:Z22) -> 717.66 | AC22: =SUM(AA22:AB22) -> 717.66 | AD22: DD
A23: 45489 | B23: Aqua Projet | C23: DD | T23: 866.15 | AA23: =SUM(I23:Z23) -> 866.15 | AC23: =SUM(AA23:AB23) -> 866.15 | AD23: DD
A24: 45489 | B24: Clerk's Expenses | C24: 9 | J24: 20 | R24: 4.16 | S24: 13.98 | AA24: =SUM(I24:Z24) -> 38.14 | AB24: 0.84 | AC24: =SUM(AA24:AB24) -> 38.98 | AD24: 1766
A25: 45489 | B25: Community Centre (Apr-Jul) | C25: 10 | J25: 80 | AA25: =SUM(I25:Z25) -> 80 | AC25: =SUM(AA25:AB25) -> 80 | AD25: 1767
A26: 45502 | B26: Clerk's Expenses | C26: 11 | K26: 152.58 | S26: 24.75 | AA26: =SUM(I26:Z26) -> 177.33 | AB26: 30.52 | AC26: =SUM(AA26:AB26) -> 207.85 | AD26: 1768
A27: 45504 | B27: Interest | G27: 57.62
A28: 45524 | B28: Aqua Projet | C28: DD | T28: 866.15 | AA28: =SUM(I28:Z28) -> 866.15 | AC28: =SUM(AA28:AB28) -> 866.15 | AD28: DD
A29: 45524 | B29: Clerks Salary & Phone | C29: DD | I29: 717.66 | AA29: =SUM(I29:Z29) -> 717.66 | AC29: =SUM(AA29:AB29) -> 717.66 | AD29: DD
A30: 45534 | B30: Interest | G30: 49.93
A31: 45539 | B31: South Lakes Trees | C31: 12 | R31: 260 | AA31: =SUM(I31:Z31) -> 260 | AB31: 52 | AC31: =SUM(AA31:AB31) -> 312 | AD31: 1769
A32: 45539 | B32: Moore | C32: 13 | L32: 210 | AA32: =SUM(I32:Z32) -> 210 | AB32: 42 | AC32: =SUM(AA32:AB32) -> 252 | AD32: 1770
A33: 45552 | B33: Aqua Projet | C33: DD | T33: 866.15 | AA33: =SUM(I33:Z33) -> 866.15 | AC33: =SUM(AA33:AB33) -> 866.15 | AD33: DD
A34: 45552 | B34: Clerks Salary & Phone | C34: DD | I34: 717.66 | AA34: =SUM(I34:Z34) -> 717.66 | AC34: =SUM(AA34:AB34) -> 717.66 | AD34: DD
A35: 45552 | B35: Clerk's Expenses | C35: 14 | K35: 19.64 | S35: 71.62 | AA35: =SUM(I35:Z35) -> 91.26 | AB35: 18.27 | AC35: =SUM(AA35:AB35) -> 109.53 | AD35: 1771
A36: 45565 | B36: Interest | G36: 49.15
A37: 45580 | B37: Cllr Mason | C37: 15 | Z37: 14 | AA37: =SUM(I37:Z37) -> 14 | AC37: =SUM(AA37:AB37) -> 14 | AD37: 1772
A38: 45580 | B38: Aqua Projet | C38: 16 | R38: 80 | AA38: =SUM(I38:Z38) -> 80 | AC38: =SUM(AA38:AB38) -> 80 | AD38: 1773
A39: 45580 | B39: Clerk's Expenses | C39: 17 | J39: 20 | R39: 109.24 | AA39: =SUM(I39:Z39) -> 129.24 | AB39: 22.16 | AC39: =SUM(AA39:AB39) -> 151.4 | AD39: 1774
A40: 45580 | B40: Clerks Salary & Phone | C40: DD | I40: 717.66 | AA40: =SUM(I40:Z40) -> 717.66 | AC40: =SUM(AA40:AB40) -> 717.66 | AD40: DD
...

Sheet receipts and payments
A1: ASKAM AND IRELETH PARISH COUNCIL
A2: Receipts and Payments year end 31st March 2025
A4: 2023-2024 | F4: 2024-2025
B6: 23000 | D6: Precept | G6: ='receipts and payments book'!D5 -> 35000
B7: 321.27 | D7: Interest | G7: ='receipts and payments book'!G83 -> 512.44
B8: 10018.76 | D8: Grants | G8: ='receipts and payments book'!F83 -> 0
B9: 150 | D9: Other income | G9: ='receipts and payments book'!E83 -> 0
B10: 1667.92 | D10: VAT reclaims | G10: ='receipts and payments book'!H83 -> 2140.98
D11: Capital Fund Receipts
D12: Capital Fund Interest
A16: 8805.12 | D16: Clerks wages & Phone | F16: 8805.12
A17: 300 | D17: Room rental | F17: ='receipts and payments book'!J83 -> 330
A18: 472.46 | D18: Administration &Stationery | F18: ='receipts and payments book'!K83 -> 409.48
A19: 7465.49 | D19: Additional Planting | F19: ='receipts and payments book'!R83 -> 4814.23
A20: 1570.32 | D20: Insurance (Parish Council) | F20: ='receipts and payments book'!M83 -> 1547.05
A21: 2224.37 | D21: Police PD Decomm/Public Toilet | F21: ='receipts and payments book'!N83 -> 150
A22: 18 | D22: Post | F22: ='receipts and payments book'!O83 -> 6.8
A23: 904.9 | D23: Litter bins and benches | F23: ='receipts and payments book'!P83 -> 15.83
A24: 1200 | D24: Community Plan | F24: ='receipts and payments book'!Q83 -> 300
A25: 158.93 | D25: Community Events & Festivals | F25: ='receipts and payments book'!S83 -> 2658.98
A26: 9545.8 | D26: Landscape Planting | F26: ='receipts and payments book'!T83 -> 10393.8
A27: 260 | D27: Grant aid S137 | F27: ='receipts and payments book'!U83 -> 595
A28: 550.41 | D28: Subscriptions and Training | F28: ='receipts and payments book'!V83 -> 711.35
A29: 312 | D29: Footpaths and R of W | F29: ='receipts and payments book'!W83 -> 0
A30: 0 | D30: Photo copying | F30: ='receipts and payments book'!X83 -> 0
A31: 5.26 | D31: Mileage | F31: ='receipts and payments book'!Z83 -> 14
A32: 2140.98 | D32: Vat on payments | F32: ='receipts and payments book'!AB83 -> 1526.23
A33: 260 | D33: Audit | F33: ='receipts and payments book'!L83 -> 260
A34: 12 | D34: Highways | F34: ='receipts and payments book'!Y83 -> 0
A35: =SUM(A16:A34) -> 36206.04 | B35: =SUM(B6:B34) -> 35157.95 | F35: =SUM(F16:F34) -> 32537.87 | G35: =SUM(G6:G34) -> 37653.42
D37: Balances at 1st April 2024
B38: 16755.96 | D38: Business Reserve account | G38: 15492.12
B39: 50 | D39: Current Account | G39: 50
D40: Capital Fund
D41: Capital Fund Current Account
B42: -450 | D42: Less unpresented Cheques | G42: -234.25
B43: =SUM(B38:B42) -> 16355.96 | G43: =SUM(G38:G42) -> 15307.87
D44: Balances at 31 March 2025
A45: 15492.12 | D45: Business Reserve account | F45: ='Bank Balance 2025'!C12 -> 20803.42
A46: 50 | D46: Current Account | F46: ='Bank Balance 2025'!C13 -> 50
...

Sheet Bank Balance 2025
A1: ASKAM AND IRELETH PARISH COUNCIL
A3: Bank Reconciliation
A5: Financial year end 31st March 2025
A7: Prepared By ________Janice Cumming____________________ | C7: Clerk to the Council Dated | E7: 45747
A10: Balance per bank statements as at 31 March 2025
A12: Business Reserve Account | C12: 20803.42
A13: Current Account | C13: 50
D16: =SUM(C12:C15) -> 20853.42
A18: Less unpresented cheques at 31 March 2025 | C18: -430
D20: =SUM(C18:C18) -> -430
A23: Net balances as at 31st March 2025 | D23: =SUM(D16:D21) -> 20423.42
A26: The net balances reconcile to the Cash book for the year, as follows:
A28: Opening Balance | D28: ='receipts and payments'!G43 -> 15307.87
A29: Add : Receipts in the year | D29: ='receipts and payments'!G35 -> 37653.42
A30: Less : Payments in the year | D30: =-'receipts and payments'!F35+D20 -> -32967.87
A31: Plus unpresented cheques | D31: 430
A33: Closing balance per cash book as at 31 March 2025 | D33: =SUM(D28:D31) -> 20423.42
A36: NB The Parish Council does not Operate a Petty Cash System.
A37: Parish Council operates an expenses claim system

Sheet Asset Register
A1: ASKAM AND IRELETH PARISH COUNCIL
A3: Assets as of 31st March 2025
A5: The following assets were held:
A6: Type of Assets | B6: Value | C6: Replacement Basis | D6: Date of purchase | E6: Location of Asset
A7: Eleven in number cast iron benches valued at £300.00 each | B7: =11*300 -> 3300 | C7: Purchase value | D7: various | E7: various
A8: Litter bins | B8: 4641 | C8: Purchase value | D8: various | E8: various
A9: Bowling club storage building | B9: 27000 | C9: Build cost | D9: 38412 | E9: Community field
A10: Community Field car park | B10: 50000 | C10: Build cost | D10: 38412 | E10: Community field
A11: Filing Cabinets x 2 | B11: 120 | C11: Purchase value | D11: unknown | E11: 1 with Clerk
A12: Steel street / Sharp Street recreation area | B12: 10000 | C12: Land value | D12: 1995/1996 | E12: Steel Street
A13: Three gas lamp columns | B13: 141 | C13: Purchase value | D13: 1995 | E13: Community field
A14: Playground equipment Community Field. Maintained by Barrow Borough Council. | B14: 124000 | C14: Purchase value | D14: 38412 | E14: Community field
B15: 0
A16: High visibility jackets | B16: 70 | C16: Purchase value | D16: unknown | E16: with Clerk
A17: Litter pickers | B17: 179 | C17: Purchase value | D17: unknown | E17: with councillors
A18: Litter Bin | B18: 406.74 | C18: Purchase Value | D18: 41127 | E18: Steel Street Park
A19: Litter Bins qty 3 | B19: 793.26 | C19: Purchase Value | D19: 41353 | E19: Duddon Road, Beach Street, Duke Street
A20: Picnic Bench | B20: 241 | C20: Purchase Value | D20: 41233 | E20: Community Field
A21: Seating Bench | B21: 133 | C21: Purchase Value | D21: 41233 | E21: Marsh Street
A22: Planters Qty 3 | B22: 785.7 | C22: Purchase Value | D22: 41717 | E22: Duke Street
A23: Litter Bin | B23: 283.14 | C23: Purchase Value | D23: 41728 | E23: Duke Street
A24: Rexel Guillotine | B24: 33.33 | C24: Purchase Value | D24: 41873 | E24: Clerks Office
A25: Samsung Express Laser Printer | B25: 199.49 | C25: Purchase Value | D25: 42031 | E25: Clerks Office
A26: World War 1 Memorial Benches qty 2 | B26: FOC | C26: Purchase Value | D26: 42094 | E26: Memorial Garden
A27: 2.8m Steel Gazebo | B27: FOC | C27: Purchase Value | D27: 42094 | E27: Memorial Garden
A28: Litter Bins qty 3 | B28: 625.85 | C28: Purchase Value | D28: 42452 | E28: Jubilee Fountain, 1865 Garden, Askam School.
A29: 1.27M Self Watering Half Barrier Basket & Brackets | B29: 119
A30: 1.5 M Self Watering Half Barrier Basket & Brackets | B30: 145.25 | C30: Purchase Value | D30: 42495 | E30: Jubilee Fountain
A31: 1.5M Self Watering Half Barrier Basket & Brackets | B31: 145.25 | C31: Purchase Value | D31: 42495 | E31: Jubilee Fountain
A32: Litter Bin | B32: 235.95 | C32: Purchase Value | D32: 42495 | E32: Jubilee Fountain
A33: 120 No Waiting Cones | B33: 960 | C33: Purchase Value | E33: From CCC
A34: New Composite Bench | B34: 423.63 | D34: 43771 | E34: Lay By Broughton Road
A35: 2 x Replacement Street Bins & Fixing Kits | B35: 476 | C35: Purchase Value | D35: 43941 | E35: Askam Pier/ Stafford St
A36: 1 Speed Gun Prolaser 3 Police approved | B36: 1800 | C36: Purchase Value | D36: 44068
A37: Desktop Computer | B37: 433.31 | C37: Purchase Value | D37: 44875
A38: Sub Total | B38: =SUM(B7:B37) -> 227690.9
A40: 1.2 During the year the following assets were purchased at the costs shown:
A41: addition 1
A42: addition 2
A43: addition 3
...

Sheet Reserves
A1: Breakdown of reserves held
A2: Please complete or update the highlighted boxes to help provide a breakdown of the types of reserves held by the authority at the year end:
D4: £ | E4: £ | F4: £
A5: Earmarked reserves:
B6: Description of reserve:
E12: =SUM(D7:D11) -> 0
A13: Restricted (ring-fenced) reserves:
B14: Description of reserve:
E20: =SUM(D15:D19) -> 0
A22: General reserves | D22: 15308
E23: =D22 -> 15308
A24: Total reserves | F24: =E12+E20+E23 -> 15308
A26: Box 7 per Annual Return | F26: 15308
A28: Difference | F28: =F24-F26 -> 0 | H28: =IF(F28=0,"","PLEASE PROVIDE AN EXPLANATION FOR THIS DIFFERENCE")
A30: Explanation of difference (if applicable):
A33: Column B - Each reserve should be renamed to show the specific purpose / name given by this authority.
A34: Column D - Earmarked items - a value for the amount earmarked for each specific reserve should be entered. There maybe fewer than 5 reserves or more and the number can be reduced or extended as appropriate. Earmarked items are reserves carved out from general reserves. They may have come from donations, events or fees charged but they have no restrictions on what they can be used for other than the Council has designated/declared that they are being held for X purpose. NB: A Council needs to formally designate and minute decisions to earmark funds. And similarly, if the Council require to use these 'designated' general funds for a purpose for which they have not been designated, the Council needs to take a decision to un-designate/re-designate the funds and minute their decision. This is part of the budget review to ensure the Council are holding appropriate levels of funding and using it as the Council intended to when the Council put their annual budget together.
A35: Column D - Ring-fenced items - a value for the amount restricted (ring-fenced) for each specific reserve should be entered. There maybe fewer than 5 reserves or more and the number can be reduced or extended as appropriate. Ring fenced items are reserves which may have been raised or donated to the Council for a specific or restricted purpose which cannot be used for anything else. For example, S106 would be ringfenced as there are limitations on what it can be used for.
A36: Column D - General reserves - this should relate to normal operating funds (reserves held for the general running of the Council with no specific/defined purpose) and should be the difference between the total of all Earmarked reserves and Restricted (ring-fenced) reserves, and the value of Box 7 on Section 2 of the AGAR.

Sheet Sheet1
A1: Askam and Ireleth Parish Council
A2: Risk Register 2024-2025
A3: Risk ID | B3: Topic | C3: Risk Description | D3: Risk Level | E3: Mitigation | F3: Action
A4: 1 | B4: Precept | C4: Budget Not completed | D4: L | E4: Full Minute RFO to follow up | F4: Diary review
A5: 2 | C5: Precept not Paid by Barrow BC | D5: L | E5: Monitor Receipt | F5: Diary review
A6: 3 | C6: Precept adequate | D6: L | E6: Review monthly | F6: Diary review
A7: 4 | B7: Other Income | C7: Cash Receipts | D7: L | E7: Cash handling is avoided however necessary controls in place | F7: Annual review of procedures
A8: 5 | C8: Banking | D8: L | E8: RFO check bank statements Monthly bank reconciliations. | F8: Regular reviews with Chairman
A9: 6 | B9: Grants | C9: Claims Procedures | D9: M | E9: RFO as required | F9: Diary review
A10: 7 | C10: Receipt of Grants when due | D10: L | E10: RFO as required | F10: Diary review
A11: 8 | B11: Direct Costs | C11: Goods not supplied or of poor quality | D11: M | E11: Confirm orders delivery notes rejected | F11: Diary review
A12: 9 | C12: Invoices not submitted or over stated | D12: L | E12: Check Invoices and perform bank reconciliations | F12: RFO to review and action
A13: 10 | B13: Grants & Support | C13: Requests for payments without evidence of Council agreement | D13: L | E13: Submit to council, minute agreement, authorise payment | F13: RFO to review and action
A14: 11 | B14: VAT | C14: VAT analysis | D14: L | E14: All items in Cash Book | F14: RFO to review and action
A15: 12 | C15: Charged on Sales | D15: L | E15: Annual review | F15: RFO to review and action
A16: 13 | C16: Charged on Purchases | D16: L | E16: All items in Cash Book | F16: RFO to review and action
A17: 14 | C17: Claimed within Time Limits | D17: L | E17: Submit return | F17: RFO to review and action
A18: 15 | B18: Reserves | C18: General reserves Adequacy | D18: L | E18: Review at Budget meetings | F18: RFO, 3 year plan
A19: 16 | C19: Earmarked reserves Adequacy | D19: M | E19: Review at Budget meetings | F19: RFO, 3 year plan
A20: 17 | C20: Earmarked reserves unidentified or contingency | D20: M | E20: Review minutes | F20: RFO, Chairman view
A21: 18 | B21: Assets | C21: Loss or Damage | D21: H | E21: Regular Inspection, adequate Insurance and notify Asset register | F21: Diary review
A22: 19 | C22: Risk or Damage to 3rd parties | D22: M | E22: Adequate Insurance | F22: Diary review
A23: 20 | B23: Staff | C23: Loss of Key personnel | D23: L | E23: Review work load, adequate hours and have succession strategy | F23: RFO, Chairman view
A24: 21 | B24: Maintenance | C24: Reduced value of assets or degredation of amenities | D24: M | E24: Regular checks and inspections take appropriate action | F24: Diary review
A25: 22 | B25: Legal Powers | C25: Illegal activity or payments | D25: H | E25: Council to be aware of their legal powers and status | F25: Diary review
A26: 23 | B26: Financial Records | C26: Inadequate Records | D26: L | E26: RFO/Clerk to check regularly and internal audit | F26: Diary review
A27: 24 | B27: Minutes | C27: Accurate and legal | D27: L | E27: Review at following meeting | F27: Diary review
A28: 25 | B28: Members Interests | C28: Conflict of Interest | D28: M | E28: Declarations of interests to be documented minuted and any conflict addressed as appropriate within code of conduct | F28: Diary review
A30: reviewed and approved. 16th April 2024
